BEGIN:VCALENDAR
VERSION:2.0
PRODID:-//Explorer - ECPv5.4.0//NONSGML v1.0//EN
CALSCALE:GREGORIAN
METHOD:PUBLISH
X-WR-CALNAME:Explorer
X-ORIGINAL-URL:https://explorerscouts.com.au
X-WR-CALDESC:Events for Explorer
BEGIN:VTIMEZONE
TZID:Australia/Melbourne
BEGIN:STANDARD
TZOFFSETFROM:+1100
TZOFFSETTO:+1000
TZNAME:AEST
DTSTART:20210403T160000
END:STANDARD
BEGIN:DAYLIGHT
TZOFFSETFROM:+1000
TZOFFSETTO:+1100
TZNAME:AEDT
DTSTART:20211002T160000
END:DAYLIGHT
END:VTIMEZONE
BEGIN:VEVENT
DTSTART;TZID=Australia/Melbourne:20210319T183000
DTEND;TZID=Australia/Melbourne:20210321T120000
DTSTAMP:20210301T135954
CREATED:20201206T231412Z
LAST-MODIFIED:20201206T231656Z
UID:2160-1616178600-1616328000@explorerscouts.com.au
SUMMARY:Monash Leadership Course - March 2021
DESCRIPTION:Location: TBC (will be a Scout Hall in the District determined closer to the time – usually held at Wirringga Scout Hall if it is available)\nContact: Daniel Tanner\, DLS Monash – dls.monash@gmail.com\nRegistrations will be via Manningham Events in the new year – we usually take Monash Scouts first then open to other Districts.
URL:https://explorerscouts.com.au/calendar/monash-leadership-course-march-2021/
CATEGORIES:Leadership Courses
END:VEVENT
END:VCALENDAR